BEGIN:VCALENDAR
VERSION:2.0
PRODID:-//Frauenberatung Mostviertel - ECPv6.15.11//NONSGML v1.0//EN
CALSCALE:GREGORIAN
METHOD:PUBLISH
X-WR-CALNAME:Frauenberatung Mostviertel
X-ORIGINAL-URL:https://frauenberatung.co.at
X-WR-CALDESC:Veranstaltungen für Frauenberatung Mostviertel
REFRESH-INTERVAL;VALUE=DURATION:PT1H
X-Robots-Tag:noindex
X-PUBLISHED-TTL:PT1H
BEGIN:VTIMEZONE
TZID:Europe/Berlin
BEGIN:DAYLIGHT
TZOFFSETFROM:+0100
TZOFFSETTO:+0200
TZNAME:CEST
DTSTART:20240331T010000
END:DAYLIGHT
BEGIN:STANDARD
TZOFFSETFROM:+0200
TZOFFSETTO:+0100
TZNAME:CET
DTSTART:20241027T010000
END:STANDARD
BEGIN:DAYLIGHT
TZOFFSETFROM:+0100
TZOFFSETTO:+0200
TZNAME:CEST
DTSTART:20250330T010000
END:DAYLIGHT
BEGIN:STANDARD
TZOFFSETFROM:+0200
TZOFFSETTO:+0100
TZNAME:CET
DTSTART:20251026T010000
END:STANDARD
BEGIN:DAYLIGHT
TZOFFSETFROM:+0100
TZOFFSETTO:+0200
TZNAME:CEST
DTSTART:20260329T010000
END:DAYLIGHT
BEGIN:STANDARD
TZOFFSETFROM:+0200
TZOFFSETTO:+0100
TZNAME:CET
DTSTART:20261025T010000
END:STANDARD
END:VTIMEZONE
BEGIN:VEVENT
DTSTART;TZID=Europe/Berlin:20250305T100000
DTEND;TZID=Europe/Berlin:20250305T111500
DTSTAMP:20260424T121758
CREATED:20241219T082424Z
LAST-MODIFIED:20241219T082546Z
UID:3859-1741168800-1741173300@frauenberatung.co.at
SUMMARY:Luna Yoga® - Frühjahrskurs Vormittag
DESCRIPTION:Luna Yoga® – im Einklang mit den Mondphasen \nFrühjahrskurs: „Erwachen und Erblühen“ \nLuna Yoga® ist eine sehr sanfte Yogarichtung\, speziell auf die Bedürfnisse von Frauen* abgestimmt. Luna Yoga® fördert die Beweglichkeit\, Dehnbarkeit und Geschmeidigkeit deines Körpers und unterstützt dich dabei Körper\, Geist und Seele in Einklang zu bringen. Mein Fokus richtet sich auf Frauengesundheit und Wohl-befinden. Entdecke dich und deinen Körper neu und schenke dir die Aufmerksamkeit\, die du verdienst! \nLeitung: Sylvia Maria Böhm\, Luna Yoga® Lehrerin \nTermine: 05.03.\, 12.03.\, 19.03.\, 26.03.\, 02.04.\, 09.04.\, 16.04. und 23.04.2025 \njeweils Mittwoch von 10 bis 11:15 Uhr; nur im Gesamten zu buchen; maximal 6 Frauen*; geschlossene Gruppe \nKosten: € 130\,- \nMitbringen: bequeme Kleidung\, Yogamatte\, Decke oder großes Tuch für die Matte\, bei Bedarf eine Trinkflasche und warme Socken. \nAnmeldung bis eine Woche vor Kurstermin bei Sylvia Maria Böhm: +436503116065 \n 
URL:https://frauenberatung.co.at/event/fruehjahrskurs-erwachen-und-erbluehen-vormittag/
LOCATION:Frauen*beratung Mostviertel – Amstetten\, Hauptplatz 21\, Amstetten\, 3300\, Österreich
ATTACH;FMTTYPE=image/jpeg:https://frauenberatung.co.at/wp-content/uploads/2023/06/yoga-2024.jpg
END:VEVENT
BEGIN:VEVENT
DTSTART;TZID=Europe/Berlin:20250305T114500
DTEND;TZID=Europe/Berlin:20250305T130000
DTSTAMP:20260424T121758
CREATED:20241218T132453Z
LAST-MODIFIED:20241219T081442Z
UID:3765-1741175100-1741179600@frauenberatung.co.at
SUMMARY:Luna Yoga® - Frühjahrskurs Mittag
DESCRIPTION:Luna Yoga® – im Einklang mit den Mondphasen \nFrühjahrskurs: „Erwachen und Erblühen“ \nLuna Yoga® ist eine sehr sanfte Yogarichtung\, speziell auf die Bedürfnisse von Frauen* abgestimmt. Luna Yoga® fördert die Beweglichkeit\, Dehnbarkeit und Geschmeidigkeit deines Körpers und unterstützt dich dabei Körper\, Geist und Seele in Einklang zu bringen. Mein Fokus richtet sich auf Frauengesundheit und Wohl-befinden. Entdecke dich und deinen Körper neu und schenke dir die Aufmerksamkeit\, die du verdienst! \nLeitung: Sylvia Maria Böhm\, Luna Yoga® Lehrerin \nTermine: 05.03.\, 12.03.\, 19.03.\, 26.03.\, 02.04.\, 09.04.\, 16.04. und 23.04.2025 \njeweils Mittwoch von 11:45 bis 13:00 Uhr; nur im Gesamten zu buchen; maximal 6 Frauen*; geschlossene Gruppe \nKosten: € 130\,- \nMitbringen: bequeme Kleidung\, Yogamatte\, Decke oder großes Tuch für die Matte\, bei Bedarf eine Trinkflasche und warme Socken. \nAnmeldung bis eine Woche vor Kurstermin bei Sylvia Maria Böhm: +436503116065 \n 
URL:https://frauenberatung.co.at/event/fruehjahrskurs-erwachen-und-erbluehen-mittag/
LOCATION:Frauen*beratung Mostviertel – Amstetten\, Hauptplatz 21\, Amstetten\, 3300\, Österreich
ATTACH;FMTTYPE=image/jpeg:https://frauenberatung.co.at/wp-content/uploads/2023/06/yoga-2024.jpg
END:VEVENT
END:VCALENDAR