BEGIN:VCALENDAR
VERSION:2.0
PRODID:-//Frauenberatung Mostviertel - ECPv6.15.11//NONSGML v1.0//EN
CALSCALE:GREGORIAN
METHOD:PUBLISH
X-ORIGINAL-URL:https://frauenberatung.co.at
X-WR-CALDESC:Veranstaltungen für Frauenberatung Mostviertel
REFRESH-INTERVAL;VALUE=DURATION:PT1H
X-Robots-Tag:noindex
X-PUBLISHED-TTL:PT1H
BEGIN:VTIMEZONE
TZID:Europe/Berlin
BEGIN:DAYLIGHT
TZOFFSETFROM:+0100
TZOFFSETTO:+0200
TZNAME:CEST
DTSTART:20240331T010000
END:DAYLIGHT
BEGIN:STANDARD
TZOFFSETFROM:+0200
TZOFFSETTO:+0100
TZNAME:CET
DTSTART:20241027T010000
END:STANDARD
BEGIN:DAYLIGHT
TZOFFSETFROM:+0100
TZOFFSETTO:+0200
TZNAME:CEST
DTSTART:20250330T010000
END:DAYLIGHT
BEGIN:STANDARD
TZOFFSETFROM:+0200
TZOFFSETTO:+0100
TZNAME:CET
DTSTART:20251026T010000
END:STANDARD
BEGIN:DAYLIGHT
TZOFFSETFROM:+0100
TZOFFSETTO:+0200
TZNAME:CEST
DTSTART:20260329T010000
END:DAYLIGHT
BEGIN:STANDARD
TZOFFSETFROM:+0200
TZOFFSETTO:+0100
TZNAME:CET
DTSTART:20261025T010000
END:STANDARD
END:VTIMEZONE
BEGIN:VEVENT
DTSTART;TZID=Europe/Berlin:20250220T190000
DTEND;TZID=Europe/Berlin:20250220T203000
DTSTAMP:20260422T130011
CREATED:20241218T131402Z
LAST-MODIFIED:20241218T131942Z
UID:3754-1740078000-1740083400@frauenberatung.co.at
SUMMARY:Jugendliche - nix für schwache Nerven? Thema: „Problematischer Medienkonsum  und Computerspielsucht“
DESCRIPTION:Jugendliche – nix für schwache Nerven? \nWorkshops für Eltern\, Pädagog*innen und alle Interessierten \nWas tun\, wenn uns Jugendliche mit ihrem Verhalten überfordern\, uns hilflos oder ohnmächtig werden lassen? In den Workshops werden wir zuerst klären\, worum es beim jeweiligen Thema geht und dann die Seite der Jugendlichen und die der Erwachsenen beleuchten. Was kann ich für den/die Jugendliche*n tun\, was sind Handlungsstrategien? Was kann ich für mich selbst tun\, um sicher und stabil zu bleiben? Wie kann ich gut in Verbindung bleiben? \nLeitung: Karin Kienberger\, Sozial- und Lebensberaterin \n20.2.2025 / 19-20:30 Uhr: \nThema: „Problematischer Medienkonsum und Computerspielsucht“ Was ist noch ok und wo beginnt die Sucht? \nReferentin: Barbara Modre\, Coachin für Neue Autorität\, Psychosoziale Beraterin \nAnmeldung: über den link https://forms.office.com/e/nsnMmCfjEz der unter 07472 63297\, info@frauenberatung.co.at \nfreiwilliger Kostenbeitrag
URL:https://frauenberatung.co.at/event/problematischer-medienkonsum-und-computerspielsucht/
LOCATION:Frauen*beratung Mostviertel – Amstetten\, Hauptplatz 21\, Amstetten\, 3300\, Österreich
ATTACH;FMTTYPE=image/jpeg:https://frauenberatung.co.at/wp-content/uploads/2023/06/Jugendliche.jpg
ORGANIZER;CN="Frauen*beratung Mostviertel":MAILTO:info@frauenberatung.co.at
END:VEVENT
END:VCALENDAR