BEGIN:VCALENDAR
VERSION:2.0
PRODID:-//Frauenberatung Mostviertel - ECPv6.15.11//NONSGML v1.0//EN
CALSCALE:GREGORIAN
METHOD:PUBLISH
X-ORIGINAL-URL:https://frauenberatung.co.at
X-WR-CALDESC:Veranstaltungen für Frauenberatung Mostviertel
REFRESH-INTERVAL;VALUE=DURATION:PT1H
X-Robots-Tag:noindex
X-PUBLISHED-TTL:PT1H
BEGIN:VTIMEZONE
TZID:Europe/Berlin
BEGIN:DAYLIGHT
TZOFFSETFROM:+0100
TZOFFSETTO:+0200
TZNAME:CEST
DTSTART:20240331T010000
END:DAYLIGHT
BEGIN:STANDARD
TZOFFSETFROM:+0200
TZOFFSETTO:+0100
TZNAME:CET
DTSTART:20241027T010000
END:STANDARD
BEGIN:DAYLIGHT
TZOFFSETFROM:+0100
TZOFFSETTO:+0200
TZNAME:CEST
DTSTART:20250330T010000
END:DAYLIGHT
BEGIN:STANDARD
TZOFFSETFROM:+0200
TZOFFSETTO:+0100
TZNAME:CET
DTSTART:20251026T010000
END:STANDARD
BEGIN:DAYLIGHT
TZOFFSETFROM:+0100
TZOFFSETTO:+0200
TZNAME:CEST
DTSTART:20260329T010000
END:DAYLIGHT
BEGIN:STANDARD
TZOFFSETFROM:+0200
TZOFFSETTO:+0100
TZNAME:CET
DTSTART:20261025T010000
END:STANDARD
END:VTIMEZONE
BEGIN:VEVENT
DTSTART;TZID=Europe/Berlin:20250320T170000
DTEND;TZID=Europe/Berlin:20250320T183000
DTSTAMP:20260422T114258
CREATED:20241218T134125Z
LAST-MODIFIED:20241218T134147Z
UID:3778-1742490000-1742495400@frauenberatung.co.at
SUMMARY:Vortrag: Sichere Bindung - warum ist sie so wichtig?
DESCRIPTION:Sichere Bindung – warum ist sie so wichtig? \nWir alle wollen eine sichere Bindung zu unseren Kindern aufbauen. Doch was bedeutet „sicher“? Wie zeigt sich eine sichere Bindung in unserem späteren Leben? Wie nehmen wir Eltern Einfluss auf die Bindung zu unseren Kindern – bewusst und unbewusst? Und wie können wir uns selbst Platz im Familienalltag geben? Mit diesen und weiteren Fragen beschäftigen wir uns in diesem Vortrag. \nLeitung: Katrin Hofer\, Psychotherapeutin\, Bindungsanalytikerin \nTermin: 20.3.2025 von 17 bis 18:30 Uhr \nAnmeldung: bis 3 Tage vor dem Termin\, 0676 5946144 oder praxis@psychotherapie-hofer.at \nKosten: € 5\,- pro Person\, € 7\,- pro Paar
URL:https://frauenberatung.co.at/event/vortrag-sichere-bindung-warum-ist-sie-so-wichtig/
ORGANIZER;CN="Katrin Hofer":MAILTO:praxis@psychotherapie-hofer.at
END:VEVENT
BEGIN:VEVENT
DTSTART;TZID=Europe/Berlin:20250327T190000
DTEND;TZID=Europe/Berlin:20250327T203000
DTSTAMP:20260422T114258
CREATED:20241218T131644Z
LAST-MODIFIED:20241218T131905Z
UID:3757-1743102000-1743107400@frauenberatung.co.at
SUMMARY:Jugendliche - nix für schwache Nerven? Thema: „Essstörungen"
DESCRIPTION:Jugendliche – nix für schwache Nerven? \nWorkshops für Eltern\, Pädagog*innen und alle Interessierten \nWas tun\, wenn uns Jugendliche mit ihrem Verhalten überfordern\, uns hilflos oder ohnmächtig werden lassen? In den Workshops werden wir zuerst klären\, worum es beim jeweiligen Thema geht und dann die Seite der Jugendlichen und die der Erwachsenen beleuchten. Was kann ich für den/die Jugendliche*n tun\, was sind Handlungsstrategien? Was kann ich für mich selbst tun\, um sicher und stabil zu bleiben? Wie kann ich gut in Verbindung bleiben? \n27.3.2025/ 19-20:30 Uhr \nThema: „Essstörungen“ \nAnzeichen\, Ursachen und Formen von Essstörungen bei Jugendlichen sowie Informationen zu Unterstützungsangeboten. \nReferentin & Leitung: Karin Kienberger\, Sozial- und Lebensberaterin \nAnmeldung: über den link https://forms.office.com/e/nsnMmCfjEz der unter 07472 63297\, info@frauenberatung.co.at \nfreiwilliger Kostenbeitrag
URL:https://frauenberatung.co.at/event/problematischer-medienkonsum-und-computerspielsucht-copy/
LOCATION:Frauen*beratung Mostviertel – Amstetten\, Hauptplatz 21\, Amstetten\, 3300\, Österreich
ATTACH;FMTTYPE=image/jpeg:https://frauenberatung.co.at/wp-content/uploads/2023/06/Jugendliche.jpg
ORGANIZER;CN="Frauen*beratung Mostviertel":MAILTO:info@frauenberatung.co.at
END:VEVENT
END:VCALENDAR